BEGIN:VCALENDAR
VERSION:2.0
PRODID:gruene-bocholt.de
METHOD:PUBLISH
BEGIN:VTIMEZONE
TZID:Europe/Berlin
X-LIC-LOCATION:Europe/Berlin
BEGIN:DAYLIGHT
TZOFFSETFROM:+0100
TZOFFSETTO:+0200
TZNAME:CEST
DTSTART:19700329T020000
RRULE:FREQ=YEARLY;INTERVAL=1;BYDAY=-1SU;BYMONTH=3
END:DAYLIGHT
BEGIN:STANDARD
TZOFFSETFROM:+0200
TZOFFSETTO:+0100
TZNAME:CET
DTSTART:19701025T030000
RRULE:FREQ=YEARLY;INTERVAL=1;BYDAY=-1SU;BYMONTH=10
END:STANDARD
END:VTIMEZONE
BEGIN:VEVENT
UID:b9bcc83c63548167af62850ce156f502@gruene-bocholt.de
URL;VALUE=URI:https://gruene-bocholt.de/termine/fraktionssitzung-48/
LOCATION:
SUMMARY:Fraktionssitzung
DESCRIPTION;ALTREP="data:text/html,%0A%3Cp%20class%3D%22has-x-large-font-
 size%22%3ENEUER%20ORT%21%21%21%21%20BITTE%20EINLADUNG%20BEACHTEN%21%21%21
 %21%3C%2Fp%3E%0A%0A%0A%0A%3Cp%3E%C3%96ffentliche%20Sitzung%20der%20Bochol
 ter%20Ratsfraktion%20B%C3%9CNDNIS%2090%2FDIE%20GR%C3%9CNEN.%3C%2Fp%3E%0A%
 0A%0A%0A%3Cp%3EIn%20allen%20Sitzungen%20besprechen%20wir%20immer%20folgen
 de%20Punkte%3A%3C%2Fp%3E%0A%0A%0A%0A%3Cul%20class%3D%22wp-block-list%22%3
 E%0A%3Cli%3EVor-%20und%20Nachbereitung%20von%20Ausschusssitzungen%20und%2
 0der%20Stadtverordnetenversammlung%3C%2Fli%3E%0A%0A%0A%0A%3Cli%3EEinblick
 e%20in%20die%20Arbeit%20der%26nbsp%3B%20Stadtverordneten%20und%20der%20sa
 chkundigen%20B%C3%BCrger%3C%2Fli%3E%0A%0A%0A%0A%3Cli%3EBerichte%20auf%20d
 em%20Ortsverband%3C%2Fli%3E%0A%0A%0A%0A%3Cli%3EBerichte%20aus%20dem%20Kre
 isverband%3C%2Fli%3E%0A%0A%0A%0A%3Cli%3EBerichte%20der%20Gr%C3%BCnen%20Ju
 gend%3C%2Fli%3E%0A%0A%0A%0A%3Cli%3EFragen%20von%20G%C3%A4sten%3C%2Fli%3E%
 0A%3C%2Ful%3E%0A%0A%0A%0A%3Cp%3EJeder%20ist%20willkommen%21%3C%2Fp%3E%0A"
 :NEUER ORT!!!! BITTE EINLADUNG BEACHTEN!!!!\n\nÖffentliche Sitzung der B
 ocholter Ratsfraktion BÜNDNIS 90/DIE GRÜNEN.\n\nIn allen Sitzungen besp
 rechen wir immer folgende Punkte:\n\nVor- und Nachbereitung von Ausschuss
 sitzungen und der Stadtverordnetenversammlung\n\nEinblicke in die Arbeit 
 der  Stadtverordneten und der sachkundigen Bürger\n\nBerichte auf dem O
 rtsverband\n\nBerichte aus dem Kreisverband\n\nBerichte der Grünen Jugen
 d\n\nFragen von Gästen\n\nJeder ist willkommen!
CLASS:PUBLIC
DTSTART;TZID=Europe/Berlin:20251215T193000
DTEND;TZID=Europe/Berlin:20251215T203000
DTSTAMP:20260421T095238
END:VEVENT
END:VCALENDAR