BEGIN:VCALENDAR
VERSION:2.0
PRODID:gruene-bocholt.de
METHOD:PUBLISH
BEGIN:VTIMEZONE
TZID:Europe/Berlin
X-LIC-LOCATION:Europe/Berlin
BEGIN:DAYLIGHT
TZOFFSETFROM:+0100
TZOFFSETTO:+0200
TZNAME:CEST
DTSTART:19700329T020000
RRULE:FREQ=YEARLY;INTERVAL=1;BYDAY=-1SU;BYMONTH=3
END:DAYLIGHT
BEGIN:STANDARD
TZOFFSETFROM:+0200
TZOFFSETTO:+0100
TZNAME:CET
DTSTART:19701025T030000
RRULE:FREQ=YEARLY;INTERVAL=1;BYDAY=-1SU;BYMONTH=10
END:STANDARD
END:VTIMEZONE
BEGIN:VEVENT
UID:437d16ca3c04e6ee29a45039027bb7cd@gruene-bocholt.de
URL;VALUE=URI:https://gruene-bocholt.de/termine/fraktionssitzung-51/
LOCATION:Grünes Büro, Nordstr. 55, Bocholt
SUMMARY:Fraktionssitzung
DESCRIPTION;ALTREP="data:text/html,%0A%3Cp%20class%3D%22has-x-large-font-
 size%22%3EENTF%C3%84LLT%3C%2Fp%3E%0A":ENTFÄLLT
CLASS:PUBLIC
DTSTART;TZID=Europe/Berlin:20260119T193000
DTEND;TZID=Europe/Berlin:20260119T203000
DTSTAMP:20260421T101804
END:VEVENT
END:VCALENDAR