BEGIN:VCALENDAR
VERSION:2.0
PRODID:gruene-bocholt.de
METHOD:PUBLISH
BEGIN:VTIMEZONE
TZID:Europe/Berlin
X-LIC-LOCATION:Europe/Berlin
BEGIN:DAYLIGHT
TZOFFSETFROM:+0100
TZOFFSETTO:+0200
TZNAME:CEST
DTSTART:19700329T020000
RRULE:FREQ=YEARLY;INTERVAL=1;BYDAY=-1SU;BYMONTH=3
END:DAYLIGHT
BEGIN:STANDARD
TZOFFSETFROM:+0200
TZOFFSETTO:+0100
TZNAME:CET
DTSTART:19701025T030000
RRULE:FREQ=YEARLY;INTERVAL=1;BYDAY=-1SU;BYMONTH=10
END:STANDARD
END:VTIMEZONE
BEGIN:VEVENT
UID:56b6a8a4c5850e6d05f85dabad72f4aa@gruene-bocholt.de
URL;VALUE=URI:https://gruene-bocholt.de/termine/fraktionssitzung-53/
LOCATION:Grünes Büro, Nordstr. 55, Bocholt
SUMMARY:Fraktionssitzung
DESCRIPTION;ALTREP="data:text/html,%0A%3Cp%3ENICHT%20%C3%96FFENTLICHE%20S
 itzung%20der%20Bocholter%20Ratsfraktion%20B%C3%9CNDNIS%2090%2FDIE%20GR%C3
 %9CNEN.%3C%2Fp%3E%0A%0A%0A%0A%3Cp%3E%3C%2Fp%3E%0A":NICHT ÖFFENTLICHE Sit
 zung der Bocholter Ratsfraktion BÜNDNIS 90/DIE GRÜNEN.
CLASS:PUBLIC
DTSTART;TZID=Europe/Berlin:20260202T193000
DTEND;TZID=Europe/Berlin:20260202T203000
DTSTAMP:20260419T133926
END:VEVENT
END:VCALENDAR