BEGIN:VCALENDAR
VERSION:2.0
PRODID:gruene-bocholt.de
METHOD:PUBLISH
BEGIN:VTIMEZONE
TZID:Europe/Berlin
X-LIC-LOCATION:Europe/Berlin
BEGIN:DAYLIGHT
TZOFFSETFROM:+0100
TZOFFSETTO:+0200
TZNAME:CEST
DTSTART:19700329T020000
RRULE:FREQ=YEARLY;INTERVAL=1;BYDAY=-1SU;BYMONTH=3
END:DAYLIGHT
BEGIN:STANDARD
TZOFFSETFROM:+0200
TZOFFSETTO:+0100
TZNAME:CET
DTSTART:19701025T030000
RRULE:FREQ=YEARLY;INTERVAL=1;BYDAY=-1SU;BYMONTH=10
END:STANDARD
END:VTIMEZONE
BEGIN:VEVENT
UID:107f192f85f20f3b6b8414fac2620ac2@gruene-bocholt.de
URL;VALUE=URI:https://gruene-bocholt.de/termine/fruehlingsfest-im-gruenen
 -buero/
LOCATION:Grünes Bürp, Nordstr. 55, Bocholt
SUMMARY:Frühlingsfest im GRÜNEN Büro
DESCRIPTION;ALTREP="data:text/html,%0A%3Cp%3ELangsam%20kehrt%20der%20Fr%C
 3%BChling%20zur%C3%BCck.%20Das%20Wetter%20wird%20sch%C3%B6ner%2C%20w%C3%A
 4rmer%20und%20es%20bleibt%20l%C3%A4nger%20hell.%26nbsp%3B%3C%2Fp%3E%0A%0A
 %0A%0A%3Cp%3EUnd%20genau%20dies%20Gef%C3%BChl%20m%C3%B6chten%20wir%20mit%
 20unserem%20B%C3%BCro%20nach%20drau%C3%9Fen%20tragen.%26nbsp%3B%3C%2Fp%3E
 %0A%0A%0A%0A%3Cp%3EGenau%2C%20wie%20zur%20Weihnachtszeit%20m%C3%B6chten%2
 0wir%20das%20B%C3%BCro%20zu%20einem%20Wohlf%C3%BChlort%20verwandeln%20und
 %20als%20offenes%20Tor%20nach%20drau%C3%9Fen%20fungieren.%26nbsp%3B%3C%2F
 p%3E%0A%0A%0A%0A%3Cp%3EUnd%20um%20diesen%20Ort%20zu%20schaffen%2C%20m%C3%
 B6chten%20wir%20euch%20und%20eure%20Familien%20zu%20einem%20Fr%C3%BChling
 scafe%20einladen.%26nbsp%3B%3C%2Fp%3E%0A%0A%0A%0A%3Cp%3EGemeinsam%20k%C3%
 B6nnen%20wir%20die%20Fenster%20gestalten%20und%20Dekoration%20f%C3%BCr%20
 ein%20Buntes%2C%20vielf%C3%A4ltiges%20B%C3%BCro%20basteln.%26nbsp%3B%3C%2
 Fp%3E%0A%0A%0A%0A%3Cp%3EKommt%20gerne%20vorbei%20am%2028.03%20gegen%2015%
 20Uhr%21%20Wir%20freuen%20uns%20auf%20euch%20und%20eure%20Familien.%3C%2F
 p%3E%0A%0A%0A%0A%3Cp%3EMit%20ganz%20lieben%20Gr%C3%BC%C3%9Fen%26nbsp%3B%3
 C%2Fp%3E%0A%0A%0A%0A%3Cp%3ELif%20Greta%20Licht%3Cbr%3EGr%C3%BCne%20Jugend
 %3C%2Fp%3E%0A":Langsam kehrt der Frühling zurück. Das Wetter wird schö
 ner\, wärmer und es bleibt länger hell. \n\nUnd genau dies Gefühl mö
 chten wir mit unserem Büro nach draußen tragen. \n\nGenau\, wie zur We
 ihnachtszeit möchten wir das Büro zu einem Wohlfühlort verwandeln und 
 als offenes Tor nach draußen fungieren. \n\nUnd um diesen Ort zu schaff
 en\, möchten wir euch und eure Familien zu einem Frühlingscafe einladen
 . \n\nGemeinsam können wir die Fenster gestalten und Dekoration für ei
 n Buntes\, vielfältiges Büro basteln. \n\nKommt gerne vorbei am 28.03 
 gegen 15 Uhr! Wir freuen uns auf euch und eure Familien.\n\nMit ganz lieb
 en Grüßen \n\nLif Greta LichtGrüne Jugend
CLASS:PUBLIC
DTSTART;TZID=Europe/Berlin:20260328T150000
DTEND;TZID=Europe/Berlin:20260328T160000
DTSTAMP:20260421T095348
END:VEVENT
END:VCALENDAR