BEGIN:VCALENDAR
VERSION:2.0
PRODID:gruene-bocholt.de
METHOD:PUBLISH
BEGIN:VTIMEZONE
TZID:Europe/Berlin
X-LIC-LOCATION:Europe/Berlin
BEGIN:DAYLIGHT
TZOFFSETFROM:+0100
TZOFFSETTO:+0200
TZNAME:CEST
DTSTART:19700329T020000
RRULE:FREQ=YEARLY;INTERVAL=1;BYDAY=-1SU;BYMONTH=3
END:DAYLIGHT
BEGIN:STANDARD
TZOFFSETFROM:+0200
TZOFFSETTO:+0100
TZNAME:CET
DTSTART:19701025T030000
RRULE:FREQ=YEARLY;INTERVAL=1;BYDAY=-1SU;BYMONTH=10
END:STANDARD
END:VTIMEZONE
BEGIN:VEVENT
UID:49dd8ac42d87771034528c0aaa3cf50b@gruene-bocholt.de
URL;VALUE=URI:https://gruene-bocholt.de/termine/gruendung-des-kreisverban
 des-der-gruenen-jugend-borken/
LOCATION:Grünes Büro, Markt 7, Borken
SUMMARY:Gründung des Kreisverbandes der Grünen Jugend Borken
DESCRIPTION;ALTREP="data:text/html,%0A%3Cp%3ENeuer%20Start%20f%C3%BCr%20j
 unge%20Politik%20im%20Kreis%20Borken%21%3C%2Fp%3E%0A%0A%0A%0A%3Cp%3EAm%20
 31.%20Mai%20geht%E2%80%99s%20los%3A%20Die%20GR%C3%9CNE%20JUGEND%20im%20Kr
 eis%20Borken%20wird%20gegr%C3%BCndet%20%E2%80%93%20und%20DU%20kannst%20vo
 n%20Anfang%20an%20dabei%20sein%21%3C%2Fp%3E%0A%0A%0A%0A%3Cul%20class%3D%2
 2wp-block-list%22%3E%0A%3Cli%3EDu%20willst%20nicht%20l%C3%A4nger%20zusehe
 n%2C%20wie%20%C3%BCber%20unsere%20Zukunft%20entschieden%20wird%3F%3C%2Fli
 %3E%0A%0A%0A%0A%3Cli%3EDu%20hast%20Bock%20auf%20echte%20Ver%C3%A4nderung%
 2C%20Klimagerechtigkeit%2C%20Vielfalt%20%26amp%3B%20Mitbestimmung%3F%3C%2
 Fli%3E%0A%0A%0A%0A%3Cli%3EDu%20sagst%20%22Politik%20ist%20nichts%20f%C3%B
 Cr%20mich%22%20%E2%80%93%20aber%20irgendwie%20geht%27s%20dich%20doch%20wa
 s%20an%3F%3C%2Fli%3E%0A%3C%2Ful%3E%0A%0A%0A%0A%3Cp%3EDann%20komm%20zur%20
 Gr%C3%BCndungsversammlung%20%E2%80%93%20ganz%20ohne%20Erfahrung%2C%20aber
 %20mit%20Meinung%20%26amp%3B%20Motivation%21%3Cbr%3E%F0%9F%93%8D%20Gr%C3%
 BCnes%20B%C3%BCro%2C%20Markt%207%2C%20Borken%3Cbr%3E%F0%9F%95%92%20Start%
 3A%2015%20Uhr%3Cbr%3E%F0%9F%92%AC%20Austausch%2C%20Planung%2C%20Ideen%20%
 E2%80%93%20und%20ja%2C%20es%20gibt%20Pizza%21%3C%2Fp%3E%0A%0A%0A%0A%3Cp%3
 EAnmeldungen%20gerne%20%C3%BCber%3A%20%3Ca%20href%3D%22https%3A%2F%2Fgj-k
 reis-borken.antragsgruen.de%22%3Ehttps%3A%2F%2Fgj-kreis-borken.antragsgru
 en.de%3C%2Fa%3E%3C%2Fp%3E%0A%0A%0A%0A%3Cp%3EZeig%2C%20dass%20junge%20Stim
 men%20im%20Westm%C3%BCnsterland%20was%20zu%20sagen%20haben%21%3C%2Fp%3E%0
 A%0A%0A%0A%3Ch1%20class%3D%22wp-block-heading%22%3E%23Gr%C3%BCneJugend%20
 %23KreisBorken%20%23PolitikVonUnten%20%23Klimagerechtigkeit%20%23Vielfalt
 %20%23Borken%20%23GegenRechts%20%23ZukunftJetzt%20%23JoinUs%3C%2Fh1%3E%0A
 %0A%0A%0A%3Cp%3E%3C%2Fp%3E%0A%0A%0A%0A%3Cp%3E%3C%2Fp%3E%0A":Neuer Start f
 ür junge Politik im Kreis Borken!\n\nAm 31. Mai geht’s los: Die GRÜNE
  JUGEND im Kreis Borken wird gegründet – und DU kannst von Anfang an d
 abei sein!\n\nDu willst nicht länger zusehen\, wie über unsere Zukunft 
 entschieden wird?\n\nDu hast Bock auf echte Veränderung\, Klimagerechtig
 keit\, Vielfalt & Mitbestimmung?\n\nDu sagst "Politik ist nichts für mic
 h" – aber irgendwie geht's dich doch was an?\n\nDann komm zur Gründung
 sversammlung – ganz ohne Erfahrung\, aber mit Meinung & Motivation!📍
  Grünes Büro\, Markt 7\, Borken🕒 Start: 15 Uhr💬 Austausch\, Planu
 ng\, Ideen – und ja\, es gibt Pizza!\n\nAnmeldungen gerne über: https:
 //gj-kreis-borken.antragsgruen.de\n\nZeig\, dass junge Stimmen im Westmü
 nsterland was zu sagen haben!\n\n#GrüneJugend #KreisBorken #PolitikVonUn
 ten #Klimagerechtigkeit #Vielfalt #Borken #GegenRechts #ZukunftJetzt #Joi
 nUs
CLASS:PUBLIC
DTSTART;TZID=Europe/Berlin:20250531T150000
DTEND;TZID=Europe/Berlin:20250531T160000
DTSTAMP:20260419T144340
END:VEVENT
END:VCALENDAR