BEGIN:VCALENDAR
VERSION:2.0
PRODID:gruene-bocholt.de
METHOD:PUBLISH
BEGIN:VTIMEZONE
TZID:Europe/Berlin
X-LIC-LOCATION:Europe/Berlin
BEGIN:DAYLIGHT
TZOFFSETFROM:+0100
TZOFFSETTO:+0200
TZNAME:CEST
DTSTART:19700329T020000
RRULE:FREQ=YEARLY;INTERVAL=1;BYDAY=-1SU;BYMONTH=3
END:DAYLIGHT
BEGIN:STANDARD
TZOFFSETFROM:+0200
TZOFFSETTO:+0100
TZNAME:CET
DTSTART:19701025T030000
RRULE:FREQ=YEARLY;INTERVAL=1;BYDAY=-1SU;BYMONTH=10
END:STANDARD
END:VTIMEZONE
BEGIN:VEVENT
UID:d201ca76bd88c3fb0a79879d5cfdbb9b@gruene-bocholt.de
URL;VALUE=URI:https://gruene-bocholt.de/termine/integrationsrat/
LOCATION:Mensa Gesamtschule Bocholt, Rheinstraße 4, 46395 Bocholt
SUMMARY:Integrationsrat
DESCRIPTION;ALTREP="data:text/html,%0A%3Cp%3E5.%20Sitzung%20des%20Integra
 tionsrates.%20%3C%2Fp%3E%0A%0A%0A%0A%3Cp%3ETagesordnung%20einsehbar%20%3C
 a%20href%3D%22https%3A%2F%2Fbocholt.ratsinfomanagement.net%2Ftops%2F%3F__
 %3DUGhVM0hpd2NXNFdFcExjZX2ohFYCb7OtGL5C9OwvepM%22%3Ehier%3C%2Fa%3E.%3C%2F
 p%3E%0A%0A%0A%0A%3Cp%3EBei%20Fragen%20und%20Anregungen%20steht%20Euch%20d
 ie%20Sprecherin%20der%20Teilfraktion%20Annette%20Gr%C3%BCmer-Weyers%20unt
 er%C2%A0%3Ca%20href%3D%22tel%3A0157-325%20281%2051%22%3E0157-325%20281%20
 51%3C%2Fa%3E%C2%A0oder%C2%A0%3Ca%20href%3D%22%23%22%3Eannette.gruemer-wey
 ers%40gruene-boh.de%3C%2Fa%3E%C2%A0gerne%20zur%20Verf%C3%BCgung.%3C%2Fp%3
 E%0A%0A%0A%0A%3Cp%3E%3C%2Fp%3E%0A":5. Sitzung des Integrationsrates.\n\nT
 agesordnung einsehbar hier.\n\nBei Fragen und Anregungen steht Euch die S
 precherin der Teilfraktion Annette Grümer-Weyers unter 0157-325 281 51
  oder annette.gruemer-weyers@gruene-boh.de gerne zur Verfügung.
CLASS:PUBLIC
DTSTART;TZID=Europe/Berlin:20241126T170000
DTEND;TZID=Europe/Berlin:20241126T180000
DTSTAMP:20260421T100403
END:VEVENT
END:VCALENDAR