BEGIN:VCALENDAR
VERSION:2.0
PRODID:gruene-bocholt.de
METHOD:PUBLISH
BEGIN:VTIMEZONE
TZID:Europe/Berlin
X-LIC-LOCATION:Europe/Berlin
BEGIN:DAYLIGHT
TZOFFSETFROM:+0100
TZOFFSETTO:+0200
TZNAME:CEST
DTSTART:19700329T020000
RRULE:FREQ=YEARLY;INTERVAL=1;BYDAY=-1SU;BYMONTH=3
END:DAYLIGHT
BEGIN:STANDARD
TZOFFSETFROM:+0200
TZOFFSETTO:+0100
TZNAME:CET
DTSTART:19701025T030000
RRULE:FREQ=YEARLY;INTERVAL=1;BYDAY=-1SU;BYMONTH=10
END:STANDARD
END:VTIMEZONE
BEGIN:VEVENT
UID:05bf03c22df9ec47884fe61a9099e643@gruene-bocholt.de
URL;VALUE=URI:https://gruene-bocholt.de/termine/offener-stammtisch-2024-0
 4-12/
LOCATION:Herzblut, Ravardistraße 22, 46399 Bocholt
SUMMARY:Offener Stammtisch
DESCRIPTION;ALTREP="data:text/html,%0A%3Cp%3EWir%20laden%20herzlich%20zum
 %20offenen%20Stammtisch%20ein.%3Cbr%3EEingeladen%20sind%20alle%2C%20die%2
 0sich%20in%20lockerer%20Gespr%C3%A4chsrunde%20austauschen%20m%C3%B6chten.
 %3C%2Fp%3E%0A%0A%0A%0A%3Cp%3EWir%20treffen%20uns%20ganz%20unkompliziert%2
 0im%20Herzblut.%20Kommt%20einfach%20dazu%2C%20wir%20freuen%20uns%20auf%20
 Euch.%3C%2Fp%3E%0A":Wir laden herzlich zum offenen Stammtisch ein.Eingela
 den sind alle\, die sich in lockerer Gesprächsrunde austauschen möchten
 .\n\nWir treffen uns ganz unkompliziert im Herzblut. Kommt einfach dazu\,
  wir freuen uns auf Euch.
CLASS:PUBLIC
DTSTART;TZID=Europe/Berlin:20240412T190000
DTEND;TZID=Europe/Berlin:20240412T200000
DTSTAMP:20260420T192112
END:VEVENT
END:VCALENDAR